BEGIN:VCALENDAR
VERSION:2.0
PRODID:-//wp-events-plugin.com//6.6.3//EN
BEGIN:VEVENT
UID:218@dmd.cat
DTSTART;TZID=Europe/Madrid:20250708T090000
DTEND;TZID=Europe/Madrid:20250708T130000
DTSTAMP:20250630T142525Z
URL:https://dmd.cat/events/vilanova-i-la-geltru-taula-informativa/
SUMMARY:Vilanova i la Geltrú. Taula informativa
DESCRIPTION:Xerrada a càrrec de DMD Ribes i Sitges\n\nHospital Sant Antoni
  Abat\nC. Sant Josep\, 21-23\n\nVilanova i la Geltrú
CATEGORIES:Barcelona
END:VEVENT
BEGIN:VTIMEZONE
TZID:Europe/Madrid
X-LIC-LOCATION:Europe/Madrid
BEGIN:DAYLIGHT
DTSTART:20250330T030000
TZOFFSETFROM:+0100
TZOFFSETTO:+0200
TZNAME:CEST
END:DAYLIGHT
END:VTIMEZONE
END:VCALENDAR