BEGIN:VCALENDAR
VERSION:2.0
PRODID:-//wp-events-plugin.com//6.6.3//EN
BEGIN:VEVENT
UID:370@dmd.cat
DTSTART;TZID=Europe/Madrid:20260415T180000
DTEND;TZID=Europe/Madrid:20260415T200000
DTSTAMP:20260331T083616Z
URL:https://dmd.cat/events/vic-presentacio-del-nou-punt-local-de-vic-i-oso
 na/
SUMMARY:Vic. Presentació del nou Punt local de Vic i Osona
DESCRIPTION:Xerrada a càrrec de Gloria Canrtarell\, Teresa martí i profes
 ionals de la comarca\n\nEdifici del Sucre\nSala Coll Bardolet\n\nVic
CATEGORIES:Barcelona
END:VEVENT
BEGIN:VTIMEZONE
TZID:Europe/Madrid
X-LIC-LOCATION:Europe/Madrid
BEGIN:DAYLIGHT
DTSTART:20260329T030000
TZOFFSETFROM:+0100
TZOFFSETTO:+0200
TZNAME:CEST
END:DAYLIGHT
END:VTIMEZONE
END:VCALENDAR