BEGIN:VCALENDAR
VERSION:2.0
PRODID:-//wp-events-plugin.com//6.6.3//EN
BEGIN:VEVENT
UID:123@dmd.cat
DTSTART;TZID=Europe/Madrid:20250116T193000
DTEND;TZID=Europe/Madrid:20250116T203000
DTSTAMP:20241223T090746Z
URL:https://dmd.cat/events/terrassa-que-es-lassociacio-dret-a-morir-dignam
 ent-quins-son-els-drets-al-final-de-la-vida/
SUMMARY:Terrassa. Què és l'associació Dret a Morir Dignament? Quins són
  els drets al final de la vida?
DESCRIPTION:Xerrada a càrrec de Maria Silvestre i Lola Toledano\nCentre Ex
 cursionista de Terrassa\n\n\n\n\n\nC. Sant Llorenç\, 10\n\nTerrassa\n\n\n
 \n\n
END:VEVENT
BEGIN:VTIMEZONE
TZID:Europe/Madrid
X-LIC-LOCATION:Europe/Madrid
BEGIN:STANDARD
DTSTART:20241027T020000
TZOFFSETFROM:+0200
TZOFFSETTO:+0100
TZNAME:CET
END:STANDARD
END:VTIMEZONE
END:VCALENDAR