BEGIN:VCALENDAR
VERSION:2.0
PRODID:-//wp-events-plugin.com//6.6.3//EN
BEGIN:VEVENT
UID:316@dmd.cat
DTSTART;TZID=Europe/Madrid:20260130T110000
DTEND;TZID=Europe/Madrid:20260130T123000
DTSTAMP:20260105T071013Z
URL:https://dmd.cat/events/terrassa-prestacio-dajuda-a-morir-per-vida-comp
 leta/
SUMMARY:Terrassa. Prestació d'ajuda a morir per vida completa
DESCRIPTION:Xerrada a càrrec de Josep Arnau i Ramon Riu\n\nLa FACT. Factor
 ia Social de Terrassa\nRambla d’Egara\, 340\n\nTerrassa
CATEGORIES:Barcelona
END:VEVENT
BEGIN:VTIMEZONE
TZID:Europe/Madrid
X-LIC-LOCATION:Europe/Madrid
BEGIN:STANDARD
DTSTART:20251026T020000
TZOFFSETFROM:+0200
TZOFFSETTO:+0100
TZNAME:CET
END:STANDARD
END:VTIMEZONE
END:VCALENDAR