BEGIN:VCALENDAR
VERSION:2.0
PRODID:-//wp-events-plugin.com//6.6.3//EN
BEGIN:VEVENT
UID:217@dmd.cat
DTSTART;TZID=Europe/Madrid:20250702T093000
DTEND;TZID=Europe/Madrid:20250702T103000
DTSTAMP:20250630T142432Z
URL:https://dmd.cat/events/terrassa-perque-estimem-la-vida-volem-una-bona-
 mort/
SUMMARY:Terrassa. Perquè estimem la vida\, volem una bona mort
DESCRIPTION:Xerrada a càrrec de Montserrat Colominas\n\nCasal Cívic de Te
 rrassa-Centre\nCarrer de Wagner\, 2\n\nTerrassa
CATEGORIES:Barcelona
END:VEVENT
BEGIN:VTIMEZONE
TZID:Europe/Madrid
X-LIC-LOCATION:Europe/Madrid
BEGIN:DAYLIGHT
DTSTART:20250330T030000
TZOFFSETFROM:+0100
TZOFFSETTO:+0200
TZNAME:CEST
END:DAYLIGHT
END:VTIMEZONE
END:VCALENDAR