BEGIN:VCALENDAR
VERSION:2.0
PRODID:-//wp-events-plugin.com//6.6.3//EN
BEGIN:VEVENT
UID:207@dmd.cat
DTSTART;TZID=Europe/Madrid;VALUE=DATE:20250628
DTEND;TZID=Europe/Madrid;VALUE=DATE:20250629
DTSTAMP:20250527T081436Z
URL:https://dmd.cat/events/terrassa-fira-dentitats-de-salut/
SUMMARY:Terrassa. Fira d'Entitats de salut
DESCRIPTION:Xerrada a càrrec de l'Equip de DMD Terrassa\n\nFira d'Entitats
  de salut a Terrassa\nPlaça Vella\n\nTerrassa
CATEGORIES:Barcelona
END:VEVENT
BEGIN:VTIMEZONE
TZID:Europe/Madrid
X-LIC-LOCATION:Europe/Madrid
BEGIN:DAYLIGHT
DTSTART:20250330T030000
TZOFFSETFROM:+0100
TZOFFSETTO:+0200
TZNAME:CEST
END:DAYLIGHT
END:VTIMEZONE
END:VCALENDAR