BEGIN:VCALENDAR
VERSION:2.0
PRODID:-//wp-events-plugin.com//6.6.3//EN
BEGIN:VEVENT
UID:369@dmd.cat
DTSTART;TZID=Europe/Madrid:20260418T100000
DTEND;TZID=Europe/Madrid:20260418T200000
DTSTAMP:20260331T061055Z
URL:https://dmd.cat/events/terrassa-fira-dentitats-de-salut-2/
SUMMARY:Terrassa. Fira d'entitats de Salut
DESCRIPTION:Paradeta durant tota la jornada\n\nFira d'entitats de Salut\nPl
 aça Vella\n\nTerrassa
CATEGORIES:Barcelona
END:VEVENT
BEGIN:VTIMEZONE
TZID:Europe/Madrid
X-LIC-LOCATION:Europe/Madrid
BEGIN:DAYLIGHT
DTSTART:20260329T030000
TZOFFSETFROM:+0100
TZOFFSETTO:+0200
TZNAME:CEST
END:DAYLIGHT
END:VTIMEZONE
END:VCALENDAR