BEGIN:VCALENDAR
VERSION:2.0
PRODID:-//wp-events-plugin.com//6.6.3//EN
BEGIN:VEVENT
UID:238@dmd.cat
DTSTART;TZID=Europe/Madrid:20251030T170000
DTEND;TZID=Europe/Madrid:20251030T180000
DTSTAMP:20250929T065524Z
URL:https://dmd.cat/events/terrassa-drets-al-final-de-la-vida-i-el-documen
 t-de-voluntats-anticipades/
SUMMARY:Terrassa. Drets al final de la vida i el Document de Voluntats Anti
 cipades
DESCRIPTION:Xerrada a càrrec de Montserrat Muntada\, Nùria Duaso\n\nAssoc
 iació de la Gent Gran Parc de Sant Jordi\nC. Nicolau Talló\, 191\n\nTerr
 assa
CATEGORIES:Barcelona
END:VEVENT
BEGIN:VTIMEZONE
TZID:Europe/Madrid
X-LIC-LOCATION:Europe/Madrid
BEGIN:STANDARD
DTSTART:20251026T020000
TZOFFSETFROM:+0200
TZOFFSETTO:+0100
TZNAME:CET
END:STANDARD
END:VTIMEZONE
END:VCALENDAR