BEGIN:VCALENDAR
VERSION:2.0
PRODID:-//wp-events-plugin.com//6.6.3//EN
BEGIN:VEVENT
UID:149@dmd.cat
DTSTART;TZID=Europe/Madrid:20250325T190000
DTEND;TZID=Europe/Madrid:20250325T200000
DTSTAMP:20250225T091256Z
URL:https://dmd.cat/events/terrassa-decidir-i-ser-lliures-fins-al-final/
SUMMARY:Terrassa. Decidir i ser lliures fins al final
DESCRIPTION:Xerrada a càrrec de Montserrat Muntada i Núria Duaso\nL’Ate
 neu Terrassenc\n\n\n\n\n\nC. Sant Quirze\, 2\n\nTerrassa\n\n\n\n\n
CATEGORIES:Barcelona
END:VEVENT
BEGIN:VTIMEZONE
TZID:Europe/Madrid
X-LIC-LOCATION:Europe/Madrid
BEGIN:STANDARD
DTSTART:20241027T020000
TZOFFSETFROM:+0200
TZOFFSETTO:+0100
TZNAME:CET
END:STANDARD
END:VTIMEZONE
END:VCALENDAR