BEGIN:VCALENDAR
VERSION:2.0
PRODID:-//wp-events-plugin.com//6.6.3//EN
BEGIN:VEVENT
UID:220@dmd.cat
DTSTART;TZID=Europe/Madrid:20250610T100000
DTEND;TZID=Europe/Madrid:20250610T110000
DTSTAMP:20250630T142014Z
URL:https://dmd.cat/events/terrassa-apropat-als-teus-drets-al-final-de-la-
 vida-i-al-document-de-voluntats-anticipades/
SUMMARY:Terrassa. Apropa't als teus drets al final de la vida i al document
  de voluntats anticipades
DESCRIPTION:Xerrada a càrrec de Núria Duaso i Montserrat Muntada\n\nLaFAC
 T. Factoria Social de Terrassa\nRambla d'Ègara\, 340\n\nTerrassa
CATEGORIES:Barcelona
END:VEVENT
BEGIN:VTIMEZONE
TZID:Europe/Madrid
X-LIC-LOCATION:Europe/Madrid
BEGIN:DAYLIGHT
DTSTART:20250330T030000
TZOFFSETFROM:+0100
TZOFFSETTO:+0200
TZNAME:CEST
END:DAYLIGHT
END:VTIMEZONE
END:VCALENDAR