BEGIN:VCALENDAR
VERSION:2.0
PRODID:-//wp-events-plugin.com//6.6.3//EN
BEGIN:VEVENT
UID:228@dmd.cat
DTSTART;TZID=Europe/Madrid:20250926T110000
DTEND;TZID=Europe/Madrid:20250926T120000
DTSTAMP:20250825T064808Z
URL:https://dmd.cat/events/terrassa-agonia-digna-pal-liacio-i-sedacio-euta
 nasia/
SUMMARY:Terrassa. Agonia digna. Pal.liació i sedació. Eutanàsia
DESCRIPTION:Xerrada a càrrec de Montserrat Muntada\, Nùria Duaso i Eulàl
 ia Andreu\n\nFactoria Cultural de Terrasa. LaFACT\nRambla d'Ègara\, 340\n
 \nTerrassa
CATEGORIES:Barcelona
END:VEVENT
BEGIN:VTIMEZONE
TZID:Europe/Madrid
X-LIC-LOCATION:Europe/Madrid
BEGIN:DAYLIGHT
DTSTART:20250330T030000
TZOFFSETFROM:+0100
TZOFFSETTO:+0200
TZNAME:CEST
END:DAYLIGHT
END:VTIMEZONE
END:VCALENDAR