BEGIN:VCALENDAR
VERSION:2.0
PRODID:-//wp-events-plugin.com//6.6.3//EN
BEGIN:VEVENT
UID:184@dmd.cat
DTSTART;TZID=Europe/Madrid:20250506T103000
DTEND;TZID=Europe/Madrid:20250506T113000
DTSTAMP:20250429T071342Z
URL:https://dmd.cat/events/taller-per-fer-el-dva-sant-sadurni-danoia/
SUMMARY:Sant Sadurní d'Anoia. Taller per fer el DVA
DESCRIPTION:CAP Sant Sadurní\nCarrer Gelida\, 40\n\nSant Sadurní d'Anoia
CATEGORIES:Barcelona
END:VEVENT
BEGIN:VTIMEZONE
TZID:Europe/Madrid
X-LIC-LOCATION:Europe/Madrid
BEGIN:DAYLIGHT
DTSTART:20250330T030000
TZOFFSETFROM:+0100
TZOFFSETTO:+0200
TZNAME:CEST
END:DAYLIGHT
END:VTIMEZONE
END:VCALENDAR