BEGIN:VCALENDAR
VERSION:2.0
PRODID:-//wp-events-plugin.com//6.6.3//EN
BEGIN:VEVENT
UID:177@dmd.cat
DTSTART;TZID=Europe/Madrid:20250508T100000
DTEND;TZID=Europe/Madrid:20250508T123000
DTSTAMP:20250429T071519Z
URL:https://dmd.cat/events/taller-cartes-i-taller-dva-lhospitalet-de-llobr
 egat/
SUMMARY:L'Hospitalet de Llobregat. Taller cartes. i Taller DVA.
DESCRIPTION:Xerrada a càrrec de Maria Silvestre i Lola Toledano\n\nFIRA GR
 AN. Estand ajuntamen\nC. Barcelona\, 2\n\nL'Hospitalet de Llobregat
CATEGORIES:Barcelona
END:VEVENT
BEGIN:VTIMEZONE
TZID:Europe/Madrid
X-LIC-LOCATION:Europe/Madrid
BEGIN:DAYLIGHT
DTSTART:20250330T030000
TZOFFSETFROM:+0100
TZOFFSETTO:+0200
TZNAME:CEST
END:DAYLIGHT
END:VTIMEZONE
END:VCALENDAR