BEGIN:VCALENDAR
VERSION:2.0
PRODID:-//wp-events-plugin.com//6.6.3//EN
BEGIN:VEVENT
UID:203@dmd.cat
DTSTART;TZID=Europe/Madrid:20250612T170000
DTEND;TZID=Europe/Madrid:20250612T170000
DTSTAMP:20250527T080814Z
URL:https://dmd.cat/events/suria-drets-final-de-vida/
SUMMARY:Súria. Drets final de vida
DESCRIPTION:Xerrada a càrrec de Marissi Valverde\n\nEsplai de Súria\nC. T
 arragona\, 2\n\nSúria
CATEGORIES:Barcelona
END:VEVENT
BEGIN:VTIMEZONE
TZID:Europe/Madrid
X-LIC-LOCATION:Europe/Madrid
BEGIN:DAYLIGHT
DTSTART:20250330T030000
TZOFFSETFROM:+0100
TZOFFSETTO:+0200
TZNAME:CEST
END:DAYLIGHT
END:VTIMEZONE
END:VCALENDAR