BEGIN:VCALENDAR
VERSION:2.0
PRODID:-//wp-events-plugin.com//6.6.3//EN
BEGIN:VEVENT
UID:352@dmd.cat
DTSTART;TZID=Europe/Madrid:20260327T180000
DTEND;TZID=Europe/Madrid:20260327T190000
DTSTAMP:20260226T065849Z
URL:https://dmd.cat/events/sta-coloma-de-farners-drets-a-final-de-vida/
SUMMARY:Sta. Coloma de Farners. Drets a Final de Vida
DESCRIPTION:Xerrada a càrrec de A.Buxaderas i N.Bagaria\n  	\nCreu Roja\nP
 asseig Sant Salvador\, 1 (Biblioteca) \n\nSta. Coloma de Farners
CATEGORIES:Girona
END:VEVENT
BEGIN:VTIMEZONE
TZID:Europe/Madrid
X-LIC-LOCATION:Europe/Madrid
BEGIN:STANDARD
DTSTART:20251026T020000
TZOFFSETFROM:+0200
TZOFFSETTO:+0100
TZNAME:CET
END:STANDARD
END:VTIMEZONE
END:VCALENDAR