BEGIN:VCALENDAR
VERSION:2.0
PRODID:-//wp-events-plugin.com//6.6.3//EN
BEGIN:VEVENT
UID:251@dmd.cat
DTSTART;TZID=Europe/Madrid;VALUE=DATE:20251027
DTEND;TZID=Europe/Madrid;VALUE=DATE:20251111
DTSTAMP:20251016T085748Z
URL:https://dmd.cat/events/solsona-exposicio-la-mort-digna-i-illustrada/
SUMMARY:Solsona. Exposició: "La mort\, digna i il·lustrada"
DESCRIPTION:Biblioteca Carles Morató\n\nSolsona
CATEGORIES:Barcelona
END:VEVENT
BEGIN:VTIMEZONE
TZID:Europe/Madrid
X-LIC-LOCATION:Europe/Madrid
BEGIN:STANDARD
DTSTART:20251026T020000
TZOFFSETFROM:+0200
TZOFFSETTO:+0100
TZNAME:CET
END:STANDARD
END:VTIMEZONE
END:VCALENDAR