BEGIN:VCALENDAR
VERSION:2.0
PRODID:-//wp-events-plugin.com//6.6.3//EN
BEGIN:VEVENT
UID:353@dmd.cat
DTSTART;TZID=Europe/Madrid:20260312T190000
DTEND;TZID=Europe/Madrid:20260312T200000
DTSTAMP:20260226T070030Z
URL:https://dmd.cat/events/serinya-drets-a-final-de-vida-i-dva-2/
SUMMARY:Serinyà. Drets a Final de Vida i DVA
DESCRIPTION:Xerrada a càrrec de M. Miras i JM Rodríguez\n  	\nC Cívic Se
 rinyà\nPl. Sant Andreu\, 6\n\nSerinyà
CATEGORIES:Girona
END:VEVENT
BEGIN:VTIMEZONE
TZID:Europe/Madrid
X-LIC-LOCATION:Europe/Madrid
BEGIN:STANDARD
DTSTART:20251026T020000
TZOFFSETFROM:+0200
TZOFFSETTO:+0100
TZNAME:CET
END:STANDARD
END:VTIMEZONE
END:VCALENDAR