BEGIN:VCALENDAR
VERSION:2.0
PRODID:-//wp-events-plugin.com//6.6.3//EN
BEGIN:VEVENT
UID:183@dmd.cat
DTSTART;TZID=Europe/Madrid:20250514T183000
DTEND;TZID=Europe/Madrid:20250514T193000
DTSTAMP:20250429T071355Z
URL:https://dmd.cat/events/seminari-sobre-final-de-vida-barcelona/
SUMMARY:Barcelona. Seminari sobre final de vida
DESCRIPTION:Xerrada a càrrec de Gloria Cantarell i Montse Colominas\n\nAmi
 cs per la Unesco\nC. Mallorca\, 207 \, pral.\n\nBarcelona
CATEGORIES:Barcelona
END:VEVENT
BEGIN:VTIMEZONE
TZID:Europe/Madrid
X-LIC-LOCATION:Europe/Madrid
BEGIN:DAYLIGHT
DTSTART:20250330T030000
TZOFFSETFROM:+0100
TZOFFSETTO:+0200
TZNAME:CEST
END:DAYLIGHT
END:VTIMEZONE
END:VCALENDAR