BEGIN:VCALENDAR
VERSION:2.0
PRODID:-//wp-events-plugin.com//6.6.3//EN
BEGIN:VEVENT
UID:264@dmd.cat
DTSTART;TZID=Europe/Madrid:20251111T180000
DTEND;TZID=Europe/Madrid:20251111T190000
DTSTAMP:20251026T073141Z
URL:https://dmd.cat/events/sant-pere-de-ribes-drets-final-de-vida-i-dva/
SUMMARY:Sant Pere de Ribes. Drets final de vida i DVA
DESCRIPTION:Xerrada a càrrec de Lola Toledano i Núria Regojo\n\nCasal Gen
 t Gran de Ribes\nC. Nou\, 40-42\n\nSant Pere de Ribes
CATEGORIES:Barcelona
END:VEVENT
BEGIN:VTIMEZONE
TZID:Europe/Madrid
X-LIC-LOCATION:Europe/Madrid
BEGIN:STANDARD
DTSTART:20251026T020000
TZOFFSETFROM:+0200
TZOFFSETTO:+0100
TZNAME:CET
END:STANDARD
END:VTIMEZONE
END:VCALENDAR