BEGIN:VCALENDAR
VERSION:2.0
PRODID:-//wp-events-plugin.com//6.6.3//EN
BEGIN:VEVENT
UID:265@dmd.cat
DTSTART;TZID=Europe/Madrid:20251112T181500
DTEND;TZID=Europe/Madrid:20251112T191500
DTSTAMP:20251026T073305Z
URL:https://dmd.cat/events/sant-pere-de-ribes-drets-final-de-vida-i-dva-2/
SUMMARY:Sant Pere de Ribes. Drets final de vida i DVA
DESCRIPTION:Xerrada a càrrec de Lola Toledano i Núria Regojo\n\nCasal Gen
 t Gran Les Roquetes\nC. Roger de Flor 53-55 - Les Roquetes\n\nSant Pere de
  Ribes
CATEGORIES:Barcelona
END:VEVENT
BEGIN:VTIMEZONE
TZID:Europe/Madrid
X-LIC-LOCATION:Europe/Madrid
BEGIN:STANDARD
DTSTART:20251026T020000
TZOFFSETFROM:+0200
TZOFFSETTO:+0100
TZNAME:CET
END:STANDARD
END:VTIMEZONE
END:VCALENDAR