BEGIN:VCALENDAR
VERSION:2.0
PRODID:-//wp-events-plugin.com//6.6.3//EN
BEGIN:VEVENT
UID:142@dmd.cat
DTSTART;TZID=Europe/Madrid:20250224T093000
DTEND;TZID=Europe/Madrid:20250224T123000
DTSTAMP:20250204T143143Z
URL:https://dmd.cat/events/sant-joan-despi-informacio-sobre-els-drets-a-fi
 nal-de-vida/
SUMMARY:Sant Joan Despí. Informació sobre els drets a final de vida
DESCRIPTION:Parada informativa a càrrec de Esperanza Soler i Dr. Manel San
 tiñá\n\nHospital Hospital de Sant Joan Despí // Mosiés Broggi\nCarrer 
 Oriol Martorell\, 12\n\nSant Joan Despí
CATEGORIES:Barcelona
END:VEVENT
BEGIN:VTIMEZONE
TZID:Europe/Madrid
X-LIC-LOCATION:Europe/Madrid
BEGIN:STANDARD
DTSTART:20241027T020000
TZOFFSETFROM:+0200
TZOFFSETTO:+0100
TZNAME:CET
END:STANDARD
END:VTIMEZONE
END:VCALENDAR