BEGIN:VCALENDAR
VERSION:2.0
PRODID:-//wp-events-plugin.com//6.6.3//EN
BEGIN:VEVENT
UID:120@dmd.cat
DTSTART;TZID=Europe/Madrid:20250115T183000
DTEND;TZID=Europe/Madrid:20250115T193000
DTSTAMP:20241223T090138Z
URL:https://dmd.cat/events/sant-joan-despi-drets-al-final-de-la-vida-i-dva
 /
SUMMARY:Sant Joan Despí. Drets al final de la vida i DVA
DESCRIPTION:Xerrada a càrrec de Manel Santiñà Vila i Esperanza Soler Mon
 tagud\n\nVioleta\, Associació contra la violència de gènere\n\n\n\n\n\n
 Passeig Maluquer\, 2\n\nSant Joan Despí\n\n\n\n\n
CATEGORIES:Barcelona
END:VEVENT
BEGIN:VTIMEZONE
TZID:Europe/Madrid
X-LIC-LOCATION:Europe/Madrid
BEGIN:STANDARD
DTSTART:20241027T020000
TZOFFSETFROM:+0200
TZOFFSETTO:+0100
TZNAME:CET
END:STANDARD
END:VTIMEZONE
END:VCALENDAR