BEGIN:VCALENDAR
VERSION:2.0
PRODID:-//wp-events-plugin.com//6.6.3//EN
BEGIN:VEVENT
UID:309@dmd.cat
DTSTART;TZID=Europe/Madrid:20251210T170000
DTEND;TZID=Europe/Madrid:20251210T183000
DTSTAMP:20251126T080433Z
URL:https://dmd.cat/events/sant-joan-de-vilatorrada-drets-al-final-de-la-v
 ida-i-dva/
SUMMARY:Sant Joan de Vilatorrada. Drets al final de la vida i DVA
DESCRIPTION:Xerrada a càrrec de Rosa Cobacho i Anna Vidal\n\nEscola de Sal
 ut- CAP\nCentre cívic\n\nSant Joan de Vilatorrada
CATEGORIES:Barcelona
END:VEVENT
BEGIN:VTIMEZONE
TZID:Europe/Madrid
X-LIC-LOCATION:Europe/Madrid
BEGIN:STANDARD
DTSTART:20251026T020000
TZOFFSETFROM:+0200
TZOFFSETTO:+0100
TZNAME:CET
END:STANDARD
END:VTIMEZONE
END:VCALENDAR