BEGIN:VCALENDAR
VERSION:2.0
PRODID:-//wp-events-plugin.com//6.6.3//EN
BEGIN:VEVENT
UID:137@dmd.cat
DTSTART;TZID=Europe/Madrid:20250206T113000
DTEND;TZID=Europe/Madrid:20250206T123000
DTSTAMP:20250204T085420Z
URL:https://dmd.cat/events/sant-feliu-guixols-dret-sobre-salut-dva/
SUMMARY:Sant Feliu Guixols. Dret sobre Salut. DVA
DESCRIPTION:Xerrada a càrrec de Rosaura Martin\, Isabel i Sanllehí\n\nRes
 idència Gent Gran\nSant Bonaventura\, 36 \n\nSant Feliu Guixols
CATEGORIES:Girona
END:VEVENT
BEGIN:VTIMEZONE
TZID:Europe/Madrid
X-LIC-LOCATION:Europe/Madrid
BEGIN:STANDARD
DTSTART:20241027T020000
TZOFFSETFROM:+0200
TZOFFSETTO:+0100
TZNAME:CET
END:STANDARD
END:VTIMEZONE
END:VCALENDAR