BEGIN:VCALENDAR
VERSION:2.0
PRODID:-//wp-events-plugin.com//6.6.3//EN
BEGIN:VEVENT
UID:201@dmd.cat
DTSTART;TZID=Europe/Madrid:20250607T180000
DTEND;TZID=Europe/Madrid:20250607T190000
DTSTAMP:20250527T080605Z
URL:https://dmd.cat/events/sallent-drets-final-de-vida-i-dva/
SUMMARY:Sallent. Drets final de vida i DVA
DESCRIPTION:Xerrada a càrrec de Rosa Cobacho i Anna Vidal\n\nCooperativa R
 ecer- A.V.Sant Victor Claret\nC. Guimerà\, 5 - Sala Vila Valentí\n\nSall
 ent
CATEGORIES:Barcelona
END:VEVENT
BEGIN:VTIMEZONE
TZID:Europe/Madrid
X-LIC-LOCATION:Europe/Madrid
BEGIN:DAYLIGHT
DTSTART:20250330T030000
TZOFFSETFROM:+0100
TZOFFSETTO:+0200
TZNAME:CEST
END:DAYLIGHT
END:VTIMEZONE
END:VCALENDAR