BEGIN:VCALENDAR
VERSION:2.0
PRODID:-//wp-events-plugin.com//6.6.3//EN
BEGIN:VEVENT
UID:213@dmd.cat
DTSTART;TZID=Europe/Madrid:20250611T183000
DTEND;TZID=Europe/Madrid:20250611T193000
DTSTAMP:20250602T081843Z
URL:https://dmd.cat/events/rubi-drets-al-final-de-la-vida-i-dva/
SUMMARY:Rubí. Drets al final de la vida i DVA
DESCRIPTION:Xerrada a càrrec de Gloria Cantarell\,  Montserrat Colominas 
 i  Tami\n\nAjuntament de Rubí\n\nRubí
CATEGORIES:Barcelona
END:VEVENT
BEGIN:VTIMEZONE
TZID:Europe/Madrid
X-LIC-LOCATION:Europe/Madrid
BEGIN:DAYLIGHT
DTSTART:20250330T030000
TZOFFSETFROM:+0100
TZOFFSETTO:+0200
TZNAME:CEST
END:DAYLIGHT
END:VTIMEZONE
END:VCALENDAR