BEGIN:VCALENDAR
VERSION:2.0
PRODID:-//wp-events-plugin.com//6.6.3//EN
BEGIN:VEVENT
UID:212@dmd.cat
DTSTART;TZID=Europe/Madrid:20250604T153000
DTEND;TZID=Europe/Madrid:20250604T163000
DTSTAMP:20250527T082047Z
URL:https://dmd.cat/events/roses-drets-en-final-de-vida/
SUMMARY:Roses. Drets en final de vida
DESCRIPTION:Xerrada a càrrec de Josep lluis Tejeda i  Agnès\n\nCreu Roja
 \nCarretera de les Arenes 10-12\n\nRoses
CATEGORIES:Girona
END:VEVENT
BEGIN:VTIMEZONE
TZID:Europe/Madrid
X-LIC-LOCATION:Europe/Madrid
BEGIN:DAYLIGHT
DTSTART:20250330T030000
TZOFFSETFROM:+0100
TZOFFSETTO:+0200
TZNAME:CEST
END:DAYLIGHT
END:VTIMEZONE
END:VCALENDAR