BEGIN:VCALENDAR
VERSION:2.0
PRODID:-//wp-events-plugin.com//6.6.3//EN
BEGIN:VEVENT
UID:169@dmd.cat
DTSTART;TZID=Europe/Madrid:20250403T090000
DTEND;TZID=Europe/Madrid:20250428T210000
DTSTAMP:20250325T073534Z
URL:https://dmd.cat/events/reus-exposicio-la-mort-digna-i-illustrada/
SUMMARY:Reus. Exposició: “La mort\, digna i il·lustrada”
DESCRIPTION:Centre Cívic del Carme\n\n\n\n\n\nPl. de la Patacada\, 10\n\nR
 eus\n\n\n\n\n
CATEGORIES:Tarragona
END:VEVENT
BEGIN:VTIMEZONE
TZID:Europe/Madrid
X-LIC-LOCATION:Europe/Madrid
BEGIN:DAYLIGHT
DTSTART:20250330T030000
TZOFFSETFROM:+0100
TZOFFSETTO:+0200
TZNAME:CEST
END:DAYLIGHT
END:VTIMEZONE
END:VCALENDAR