BEGIN:VCALENDAR
VERSION:2.0
PRODID:-//wp-events-plugin.com//6.6.3//EN
BEGIN:VEVENT
UID:350@dmd.cat
DTSTART;TZID=Europe/Madrid:20260326T180000
DTEND;TZID=Europe/Madrid:20260326T190000
DTSTAMP:20260226T065612Z
URL:https://dmd.cat/events/reus-exposicio-i-presentacio-la-mort-digna-illu
 strada/
SUMMARY:Reus . Exposició i presentació La mort Digna Il·lustrada
DESCRIPTION:Xerrada a càrrec de Cristina Vallés\n  	\nCementiri General d
 e Reus\nAvda. de la Pau s/n \n\nReus 
CATEGORIES:Tarragona
END:VEVENT
BEGIN:VTIMEZONE
TZID:Europe/Madrid
X-LIC-LOCATION:Europe/Madrid
BEGIN:STANDARD
DTSTART:20251026T020000
TZOFFSETFROM:+0200
TZOFFSETTO:+0100
TZNAME:CET
END:STANDARD
END:VTIMEZONE
END:VCALENDAR