BEGIN:VCALENDAR
VERSION:2.0
PRODID:-//wp-events-plugin.com//6.6.3//EN
BEGIN:VEVENT
UID:301@dmd.cat
DTSTART;TZID=Europe/Madrid:20251127T180000
DTEND;TZID=Europe/Madrid:20251127T190000
DTSTAMP:20251027T095816Z
URL:https://dmd.cat/events/porqueres-drets-al-final-de-la-vida-i-dva/
SUMMARY:Porqueres. Drets al final de la vida i DVA
DESCRIPTION:Xerrada a càrrec de Miquel Miras i Josep M Rodríguez\n\nCentr
 e Gent Gran Porqueres\n\nIsaac Albeniz\, 30\n\nPorqueres
CATEGORIES:Girona
END:VEVENT
BEGIN:VTIMEZONE
TZID:Europe/Madrid
X-LIC-LOCATION:Europe/Madrid
BEGIN:STANDARD
DTSTART:20251026T020000
TZOFFSETFROM:+0200
TZOFFSETTO:+0100
TZNAME:CET
END:STANDARD
END:VTIMEZONE
END:VCALENDAR