BEGIN:VCALENDAR
VERSION:2.0
PRODID:-//wp-events-plugin.com//6.6.3//EN
BEGIN:VEVENT
UID:306@dmd.cat
DTSTART;TZID=Europe/Madrid:20251204T100000
DTEND;TZID=Europe/Madrid:20251204T113000
DTSTAMP:20251126T075804Z
URL:https://dmd.cat/events/palleja-drets-al-final-de-la-vida-i-dva-2/
SUMMARY:Pallejà. Drets al final de la vida i DVA
DESCRIPTION:Xerrada a càrrec de Lola Toledano\n\nAssociació Hora de Dones
 \nBIBLIOTECA. Av. Prat de la Riba\, 10\n\nPallejà
CATEGORIES:Barcelona
END:VEVENT
BEGIN:VTIMEZONE
TZID:Europe/Madrid
X-LIC-LOCATION:Europe/Madrid
BEGIN:STANDARD
DTSTART:20251026T020000
TZOFFSETFROM:+0200
TZOFFSETTO:+0100
TZNAME:CET
END:STANDARD
END:VTIMEZONE
END:VCALENDAR