BEGIN:VCALENDAR
VERSION:2.0
PRODID:-//wp-events-plugin.com//6.6.3//EN
BEGIN:VEVENT
UID:211@dmd.cat
DTSTART;TZID=Europe/Madrid:20250611T170000
DTEND;TZID=Europe/Madrid:20250611T180000
DTSTAMP:20250527T081932Z
URL:https://dmd.cat/events/palamos-lultim-dret-i-les-voluntats-anticipades
 /
SUMMARY:Palamós. L'últim dret i les voluntats anticipades
DESCRIPTION:Xerrada a càrrec de Miquel Verdaguer\n\nFundació Hospital Pal
 amós\nC. Provença\, 36\n\nPalamós
CATEGORIES:Girona
END:VEVENT
BEGIN:VTIMEZONE
TZID:Europe/Madrid
X-LIC-LOCATION:Europe/Madrid
BEGIN:DAYLIGHT
DTSTART:20250330T030000
TZOFFSETFROM:+0100
TZOFFSETTO:+0200
TZNAME:CEST
END:DAYLIGHT
END:VTIMEZONE
END:VCALENDAR