BEGIN:VCALENDAR
VERSION:2.0
PRODID:-//wp-events-plugin.com//6.6.3//EN
BEGIN:VEVENT
UID:224@dmd.cat
DTSTART;TZID=Europe/Madrid:20250809T100000
DTEND;TZID=Europe/Madrid:20250809T130000
DTSTAMP:20250801T084031Z
URL:https://dmd.cat/events/mas-claret-taller-pren-el-control-fes-el-dva/
SUMMARY:Mas Claret. Taller: Pren el control\, fes el DVA
DESCRIPTION:Xerrada a càrrec de Clara Lago\n\nMas Claret\nMas Claret- Ribe
 ra d'Ondara\n\nMas Claret
CATEGORIES:Lleida
END:VEVENT
BEGIN:VTIMEZONE
TZID:Europe/Madrid
X-LIC-LOCATION:Europe/Madrid
BEGIN:DAYLIGHT
DTSTART:20250330T030000
TZOFFSETFROM:+0100
TZOFFSETTO:+0200
TZNAME:CEST
END:DAYLIGHT
END:VTIMEZONE
END:VCALENDAR