BEGIN:VCALENDAR
VERSION:2.0
PRODID:-//wp-events-plugin.com//6.6.3//EN
BEGIN:VEVENT
UID:307@dmd.cat
DTSTART;TZID=Europe/Madrid:20251211T183000
DTEND;TZID=Europe/Madrid:20251211T200000
DTSTAMP:20251126T080047Z
URL:https://dmd.cat/events/manresa-festival-de-vida-al-final-de-la-vida-ta
 ller-per-fer-el-dva/
SUMMARY:Manresa. Festival de Vida al final de la Vida: Taller per fer el DV
 A
DESCRIPTION:Xerrada a càrrec de Rosa Cobacho i Anna Vidal\n\nSant Andreu S
 alut\nPl. de l'Hospital\n\nManresa
CATEGORIES:Barcelona
END:VEVENT
BEGIN:VTIMEZONE
TZID:Europe/Madrid
X-LIC-LOCATION:Europe/Madrid
BEGIN:STANDARD
DTSTART:20251026T020000
TZOFFSETFROM:+0200
TZOFFSETTO:+0100
TZNAME:CET
END:STANDARD
END:VTIMEZONE
END:VCALENDAR