BEGIN:VCALENDAR
VERSION:2.0
PRODID:-//wp-events-plugin.com//6.6.3//EN
BEGIN:VEVENT
UID:310@dmd.cat
DTSTART;TZID=Europe/Madrid:20251219T190000
DTEND;TZID=Europe/Madrid:20251219T200000
DTSTAMP:20251126T080606Z
URL:https://dmd.cat/events/manresa-els-infants-i-la-mort/
SUMMARY:Manresa. Els infants i la mort
DESCRIPTION:Xerrada a càrrec de Cristina Vallès\n\nAgrupaments escoltes\n
 Passeig Pere III\, 27\n\nManresa
CATEGORIES:Barcelona
END:VEVENT
BEGIN:VTIMEZONE
TZID:Europe/Madrid
X-LIC-LOCATION:Europe/Madrid
BEGIN:STANDARD
DTSTART:20251026T020000
TZOFFSETFROM:+0200
TZOFFSETTO:+0100
TZNAME:CET
END:STANDARD
END:VTIMEZONE
END:VCALENDAR