BEGIN:VCALENDAR
VERSION:2.0
PRODID:-//wp-events-plugin.com//6.6.3//EN
BEGIN:VEVENT
UID:332@dmd.cat
DTSTART;TZID=Europe/Madrid:20260226T180000
DTEND;TZID=Europe/Madrid:20260226T190000
DTSTAMP:20260209T062421Z
URL:https://dmd.cat/events/manresa-el-document-de-voluntats-anticipades-dv
 a/
SUMMARY:Manresa. El Document de Voluntats Anticipades (DVA)
DESCRIPTION:Xerrada a càrrec de Anna Vidal i Rosa Cobacho\n\nEspai l'arrab
 al\nPlaça Hospital\,10\n\nManresa
CATEGORIES:Barcelona
END:VEVENT
BEGIN:VTIMEZONE
TZID:Europe/Madrid
X-LIC-LOCATION:Europe/Madrid
BEGIN:STANDARD
DTSTART:20251026T020000
TZOFFSETFROM:+0200
TZOFFSETTO:+0100
TZNAME:CET
END:STANDARD
END:VTIMEZONE
END:VCALENDAR