BEGIN:VCALENDAR
VERSION:2.0
PRODID:-//wp-events-plugin.com//6.6.3//EN
BEGIN:VEVENT
UID:202@dmd.cat
DTSTART;TZID=Europe/Madrid:20250612T180000
DTEND;TZID=Europe/Madrid:20250612T190000
DTSTAMP:20250527T080659Z
URL:https://dmd.cat/events/manresa-drets-final-de-vida-i-dva/
SUMMARY:Manresa. Drets final de vida i DVA
DESCRIPTION:Xerrada a càrrec de Rosa Cobacho i Anna Vidal\n\nCooperativa R
 ecer\nPasseig Pere III (Casino)\n\nManresa
CATEGORIES:Barcelona
END:VEVENT
BEGIN:VTIMEZONE
TZID:Europe/Madrid
X-LIC-LOCATION:Europe/Madrid
BEGIN:DAYLIGHT
DTSTART:20250330T030000
TZOFFSETFROM:+0100
TZOFFSETTO:+0200
TZNAME:CEST
END:DAYLIGHT
END:VTIMEZONE
END:VCALENDAR