BEGIN:VCALENDAR
VERSION:2.0
PRODID:-//wp-events-plugin.com//6.6.3//EN
BEGIN:VEVENT
UID:341@dmd.cat
DTSTART;TZID=Europe/Madrid:20260324T103000
DTEND;TZID=Europe/Madrid:20260324T120000
DTSTAMP:20260225T142227Z
URL:https://dmd.cat/events/manlleu-perque-estimem-la-vida-volem-una-bona-m
 ort/
SUMMARY:Manlleu. Perquè  estimem la vida volem una bona mort
DESCRIPTION:Xerrada a càrrec de Montserrat Colominas i Teresa Martí Gaude
 s\n  	\nCCC Frederica Montseny\nAv. Puigmal\, 137\n\nManlleu
CATEGORIES:Barcelona
END:VEVENT
BEGIN:VTIMEZONE
TZID:Europe/Madrid
X-LIC-LOCATION:Europe/Madrid
BEGIN:STANDARD
DTSTART:20251026T020000
TZOFFSETFROM:+0200
TZOFFSETTO:+0100
TZNAME:CET
END:STANDARD
END:VTIMEZONE
END:VCALENDAR