BEGIN:VCALENDAR
VERSION:2.0
PRODID:-//wp-events-plugin.com//6.6.3//EN
BEGIN:VEVENT
UID:194@dmd.cat
DTSTART;TZID=Europe/Madrid:20250530T190000
DTEND;TZID=Europe/Madrid:20250530T200000
DTSTAMP:20250429T081710Z
URL:https://dmd.cat/events/lultim-dret-pals/
SUMMARY:Pals. L'últim dret
DESCRIPTION:Xerrada a càrrec de Miquel Verdaguer\n\nAuditori Ca La Pruna\n
 C. Creu\,7\n\nPals
CATEGORIES:Girona
END:VEVENT
BEGIN:VTIMEZONE
TZID:Europe/Madrid
X-LIC-LOCATION:Europe/Madrid
BEGIN:DAYLIGHT
DTSTART:20250330T030000
TZOFFSETFROM:+0100
TZOFFSETTO:+0200
TZNAME:CEST
END:DAYLIGHT
END:VTIMEZONE
END:VCALENDAR