BEGIN:VCALENDAR
VERSION:2.0
PRODID:-//wp-events-plugin.com//6.6.3//EN
BEGIN:VEVENT
UID:320@dmd.cat
DTSTART;TZID=Europe/Madrid:20260124T123000
DTEND;TZID=Europe/Madrid:20260124T133000
DTSTAMP:20260105T075018Z
URL:https://dmd.cat/events/lleida-presentacio-del-llibre-hadamar/
SUMMARY:Lleida. Presentació del llibre: Hadamar
DESCRIPTION:Xavier Armengol\, autor de Hadamar\, conversarà amb l'escripto
 ra Teresa Ibars i el metge Josep Lluís Cruz.\n\nLlibreria La Irreductible
 \nC/Jaume II\, 7\n\nLleida
CATEGORIES:Lleida
END:VEVENT
BEGIN:VTIMEZONE
TZID:Europe/Madrid
X-LIC-LOCATION:Europe/Madrid
BEGIN:STANDARD
DTSTART:20251026T020000
TZOFFSETFROM:+0200
TZOFFSETTO:+0100
TZNAME:CET
END:STANDARD
END:VTIMEZONE
END:VCALENDAR