BEGIN:VCALENDAR
VERSION:2.0
PRODID:-//wp-events-plugin.com//6.6.3//EN
BEGIN:VEVENT
UID:208@dmd.cat
DTSTART;TZID=Europe/Madrid:20250604T180000
DTEND;TZID=Europe/Madrid:20250604T190000
DTSTAMP:20250527T081540Z
URL:https://dmd.cat/events/lleida-cine-forum-el-ultimo-suspiro/
SUMMARY:Lleida. Cine Fòrum "El último suspiro"
DESCRIPTION:Xerrada a càrrec de l'Equip de DMD Lleida\n\nDMD Lleida/FeSalu
 t/Screenbox\nScreenbox - C. Pi i Margall\, 26\n\nLleida
CATEGORIES:Lleida
END:VEVENT
BEGIN:VTIMEZONE
TZID:Europe/Madrid
X-LIC-LOCATION:Europe/Madrid
BEGIN:DAYLIGHT
DTSTART:20250330T030000
TZOFFSETFROM:+0100
TZOFFSETTO:+0200
TZNAME:CEST
END:DAYLIGHT
END:VTIMEZONE
END:VCALENDAR