BEGIN:VCALENDAR
VERSION:2.0
PRODID:-//wp-events-plugin.com//6.6.3//EN
BEGIN:VEVENT
UID:227@dmd.cat
DTSTART;TZID=Europe/Madrid:20250907T120000
DTEND;TZID=Europe/Madrid:20250907T130000
DTSTAMP:20250805T063531Z
URL:https://dmd.cat/events/lleida-celebrem-la-vida-informcio-dmd/
SUMMARY:Lleida. "Celebrem la vida". Informció DMD
DESCRIPTION:Xerrada a càrrec dels voluntaris de DMD Lleida\n\nCol.legi de 
 periodistes Lleida\nCastell el Remei\n\nLleida
CATEGORIES:Lleida
END:VEVENT
BEGIN:VTIMEZONE
TZID:Europe/Madrid
X-LIC-LOCATION:Europe/Madrid
BEGIN:DAYLIGHT
DTSTART:20250330T030000
TZOFFSETFROM:+0100
TZOFFSETTO:+0200
TZNAME:CEST
END:DAYLIGHT
END:VTIMEZONE
END:VCALENDAR