BEGIN:VCALENDAR
VERSION:2.0
PRODID:-//wp-events-plugin.com//6.6.3//EN
BEGIN:VEVENT
UID:156@dmd.cat
DTSTART;TZID=Europe/Madrid;VALUE=DATE:20250317
DTEND;TZID=Europe/Madrid;VALUE=DATE:20250405
DTSTAMP:20250225T092428Z
URL:https://dmd.cat/events/lhospitalet-de-llobregat-exposicio-la-mort-dign
 a-i-illustrada/
SUMMARY:L'Hospitalet de Llobregat. Exposició: "La mort\, digna i il·lustr
 ada"
DESCRIPTION:Centre de FP d'L'Hospitalet\n\n\n\n\n\nL'Hospitalet de Llobrega
 t\n\n\n\n\n
CATEGORIES:Barcelona
END:VEVENT
BEGIN:VTIMEZONE
TZID:Europe/Madrid
X-LIC-LOCATION:Europe/Madrid
BEGIN:STANDARD
DTSTART:20241027T020000
TZOFFSETFROM:+0200
TZOFFSETTO:+0100
TZNAME:CET
END:STANDARD
BEGIN:DAYLIGHT
DTSTART:20250330T030000
TZOFFSETFROM:+0100
TZOFFSETTO:+0200
TZNAME:CEST
END:DAYLIGHT
END:VTIMEZONE
END:VCALENDAR