BEGIN:VCALENDAR
VERSION:2.0
PRODID:-//wp-events-plugin.com//6.6.3//EN
BEGIN:VEVENT
UID:148@dmd.cat
DTSTART;TZID=Europe/Madrid:20250318T170000
DTEND;TZID=Europe/Madrid:20250318T180000
DTSTAMP:20250225T091134Z
URL:https://dmd.cat/events/lhospitalet-de-llobregat-com-fer-el-dva-drets-d
 e-final-de-vida/
SUMMARY:L'Hospitalet de Llobregat. Com fer el DVA? Drets de final de vida
DESCRIPTION:Xerrada a càrrec de Maria Silvestre i Lola Toledano\nCCC L'Hos
 pitalet-Centre\n\n\n\n\n\nC. Josep Prats\, 62-64\n\nL'Hospitalet de Llobre
 gat\n\n\n\n\n
CATEGORIES:Barcelona
END:VEVENT
BEGIN:VTIMEZONE
TZID:Europe/Madrid
X-LIC-LOCATION:Europe/Madrid
BEGIN:STANDARD
DTSTART:20241027T020000
TZOFFSETFROM:+0200
TZOFFSETTO:+0100
TZNAME:CET
END:STANDARD
END:VTIMEZONE
END:VCALENDAR