BEGIN:VCALENDAR
VERSION:2.0
PRODID:-//wp-events-plugin.com//6.6.3//EN
BEGIN:VEVENT
UID:188@dmd.cat
DTSTART;TZID=Europe/Madrid:20250527T180000
DTEND;TZID=Europe/Madrid:20250527T190000
DTSTAMP:20250429T081514Z
URL:https://dmd.cat/events/leutanasia-reflexions-i-tramits-barcelona/
SUMMARY:Barcelona. L'eutanàsia. Reflexions i tràmits
DESCRIPTION:Xerrada a càrrec de Maria Silvestre i Lola Toledano\n\nAula Ob
 erta La Bordeta\nCan Batlló (Aprop Constitució\, 16)\n\nBarcelona
CATEGORIES:Barcelona
END:VEVENT
BEGIN:VTIMEZONE
TZID:Europe/Madrid
X-LIC-LOCATION:Europe/Madrid
BEGIN:DAYLIGHT
DTSTART:20250330T030000
TZOFFSETFROM:+0100
TZOFFSETTO:+0200
TZNAME:CEST
END:DAYLIGHT
END:VTIMEZONE
END:VCALENDAR