BEGIN:VCALENDAR
VERSION:2.0
PRODID:-//wp-events-plugin.com//6.6.3//EN
BEGIN:VEVENT
UID:318@dmd.cat
DTSTART;TZID=Europe/Madrid:20260128T180000
DTEND;TZID=Europe/Madrid:20260128T190000
DTSTAMP:20260105T071456Z
URL:https://dmd.cat/events/girona-drets-a-final-de-vida-i-dva/
SUMMARY:Girona. Drets a Final de Vida i DVA
DESCRIPTION:Xerrada a càrrec de A.Buxaderas i N.Bagaria\n\nCasal Cívic i 
 Comunitari La Rutlla\nLa Rutlla\, 22\n\nGirona
CATEGORIES:Girona
END:VEVENT
BEGIN:VTIMEZONE
TZID:Europe/Madrid
X-LIC-LOCATION:Europe/Madrid
BEGIN:STANDARD
DTSTART:20251026T020000
TZOFFSETFROM:+0200
TZOFFSETTO:+0100
TZNAME:CET
END:STANDARD
END:VTIMEZONE
END:VCALENDAR