BEGIN:VCALENDAR
VERSION:2.0
PRODID:-//wp-events-plugin.com//6.6.3//EN
BEGIN:VEVENT
UID:128@dmd.cat
DTSTART;TZID=Europe/Madrid:20250116T183000
DTEND;TZID=Europe/Madrid:20250116T193000
DTSTAMP:20250109T164719Z
URL:https://dmd.cat/events/figueres-presentacio-del-llibre-de-la-mort-i-el
 -morir/
SUMMARY:Figueres. Presentació del llibre: De la Mort i el Morir
DESCRIPTION:Xerrada a càrrec de Andreu García\, Cristina Vallès\n\nBibli
 oteca\n\nBiblioteca Plaça del Sol 11
CATEGORIES:Girona
END:VEVENT
BEGIN:VTIMEZONE
TZID:Europe/Madrid
X-LIC-LOCATION:Europe/Madrid
BEGIN:STANDARD
DTSTART:20241027T020000
TZOFFSETFROM:+0200
TZOFFSETTO:+0100
TZNAME:CET
END:STANDARD
END:VTIMEZONE
END:VCALENDAR