BEGIN:VCALENDAR
VERSION:2.0
PRODID:-//wp-events-plugin.com//6.6.3//EN
BEGIN:VEVENT
UID:126@dmd.cat
DTSTART;TZID=Europe/Madrid:20250107T203000
DTEND;TZID=Europe/Madrid:20250107T220000
DTSTAMP:20250109T164410Z
URL:https://dmd.cat/events/figueres-passi-pellicula-polvo-seran/
SUMMARY:Figueres. Passi pel·lícula Polvo seran
DESCRIPTION:Xerrada a càrrec de Cristina Vallès\n\nCatscine forum Diòptr
 ia\n\nCatcines RondaSud 17
CATEGORIES:Girona
END:VEVENT
BEGIN:VTIMEZONE
TZID:Europe/Madrid
X-LIC-LOCATION:Europe/Madrid
BEGIN:STANDARD
DTSTART:20241027T020000
TZOFFSETFROM:+0200
TZOFFSETTO:+0100
TZNAME:CET
END:STANDARD
END:VTIMEZONE
END:VCALENDAR