BEGIN:VCALENDAR
VERSION:2.0
PRODID:-//wp-events-plugin.com//6.6.3//EN
BEGIN:VEVENT
UID:176@dmd.cat
DTSTART;TZID=Europe/Madrid:20250507T100000
DTEND;TZID=Europe/Madrid:20250509T190000
DTSTAMP:20250429T071535Z
URL:https://dmd.cat/events/exposicio-la-mort-digna-i-illustrada-lhospitale
 t-de-llobregat/
SUMMARY:L'Hospitalet de Llobregat. Exposició "la mort digna i il·lustrada
 ".
DESCRIPTION:A càrrec del voluntariat de DMD Catalunya\n\nFIRAGRAN. Estand 
 DMD Cat\nC. Barcelona\, 2\n\nL'Hospitalet de Llobregat
CATEGORIES:Barcelona
END:VEVENT
BEGIN:VTIMEZONE
TZID:Europe/Madrid
X-LIC-LOCATION:Europe/Madrid
BEGIN:DAYLIGHT
DTSTART:20250330T030000
TZOFFSETFROM:+0100
TZOFFSETTO:+0200
TZNAME:CEST
END:DAYLIGHT
END:VTIMEZONE
END:VCALENDAR