BEGIN:VCALENDAR
VERSION:2.0
PRODID:-//wp-events-plugin.com//6.6.3//EN
BEGIN:VEVENT
UID:173@dmd.cat
DTSTART;TZID=Europe/Madrid:20250528T103000
DTEND;TZID=Europe/Madrid:20250528T120000
DTSTAMP:20250429T071626Z
URL:https://dmd.cat/events/els-drets-al-final-de-vida-barcelona/
SUMMARY:Barcelona. Els drets al final de vida.
DESCRIPTION:Xerrada a càrrec de Nani Hidalgo\n\nEscola de Salut per grans.
  Salut\, Vall\, Penit.\nBiblioteca Fuster. Pl. Lesseps\, 20\n\nBarcelona
CATEGORIES:Barcelona
END:VEVENT
BEGIN:VTIMEZONE
TZID:Europe/Madrid
X-LIC-LOCATION:Europe/Madrid
BEGIN:DAYLIGHT
DTSTART:20250330T030000
TZOFFSETFROM:+0100
TZOFFSETTO:+0200
TZNAME:CEST
END:DAYLIGHT
END:VTIMEZONE
END:VCALENDAR